BEGIN:VCALENDAR
VERSION:2.0
PRODID:-//First Entertainment CU - ECPv6.15.17//NONSGML v1.0//EN
CALSCALE:GREGORIAN
METHOD:PUBLISH
X-WR-CALNAME:First Entertainment CU
X-ORIGINAL-URL:https://www.firstent.org
X-WR-CALDESC:Events for First Entertainment CU
REFRESH-INTERVAL;VALUE=DURATION:PT1H
X-Robots-Tag:noindex
X-PUBLISHED-TTL:PT1H
BEGIN:VTIMEZONE
TZID:America/Los_Angeles
BEGIN:DAYLIGHT
TZOFFSETFROM:-0800
TZOFFSETTO:-0700
TZNAME:PDT
DTSTART:20250309T100000
END:DAYLIGHT
BEGIN:STANDARD
TZOFFSETFROM:-0700
TZOFFSETTO:-0800
TZNAME:PST
DTSTART:20251102T090000
END:STANDARD
BEGIN:DAYLIGHT
TZOFFSETFROM:-0800
TZOFFSETTO:-0700
TZNAME:PDT
DTSTART:20260308T100000
END:DAYLIGHT
BEGIN:STANDARD
TZOFFSETFROM:-0700
TZOFFSETTO:-0800
TZNAME:PST
DTSTART:20261101T090000
END:STANDARD
BEGIN:DAYLIGHT
TZOFFSETFROM:-0800
TZOFFSETTO:-0700
TZNAME:PDT
DTSTART:20270314T100000
END:DAYLIGHT
BEGIN:STANDARD
TZOFFSETFROM:-0700
TZOFFSETTO:-0800
TZNAME:PST
DTSTART:20271107T090000
END:STANDARD
END:VTIMEZONE
BEGIN:VEVENT
DTSTART;TZID=America/Los_Angeles:20260509T180000
DTEND;TZID=America/Los_Angeles:20260509T210000
DTSTAMP:20260420T115643
CREATED:20260323T161448Z
LAST-MODIFIED:20260323T161448Z
UID:33188-1778349600-1778360400@www.firstent.org
SUMMARY:Queer Film Collective Screening
DESCRIPTION:We are so excited to announce our first event with a new community partner\, Queer Film Collective! We will be hosting a screening for them\, of a web series that one of their board members is in. Afterwards\, they will have a Q&A session with the director. \nThis event will support our initiative to engage with new audiences\, and it will give us the opportunity to host our first screening in the Community Room.
URL:https://www.firstent.org/event/queer-film-collective-screening/
CATEGORIES:Community Event
END:VEVENT
END:VCALENDAR